BEGIN:VCALENDAR

VERSION:2.0

PRODID:-//hacksw/handcal//NONSGML v1.0//EN

BEGIN:VEVENT

UID:33408aaa6bbfd29a15b349c1bfdbb5de

DTSTAMP:20260424T154908Z

DTSTART:20200307T020000

DTEND:20200307T023000

SUMMARY:21883104

LOCATION:STAFFORD HEIGHTS, 17, Chuter Street

END:VEVENT

END:VCALENDAR