BEGIN:VCALENDAR

VERSION:2.0

PRODID:-//hacksw/handcal//NONSGML v1.0//EN

BEGIN:VEVENT

UID:2524f67b31322cf733f012fd1764781c

DTSTAMP:20260424T154908Z

DTSTART:20200307T011500

DTEND:20200307T014500

SUMMARY:21778008

LOCATION:STAFFORD, 48, Nevitt Street

END:VEVENT

END:VCALENDAR