BEGIN:VCALENDAR

VERSION:2.0

PRODID:-//hacksw/handcal//NONSGML v1.0//EN

BEGIN:VEVENT

UID:db45a86c9cb5278a8979636ae38b7ffa

DTSTAMP:20260424T154304Z

DTSTART:20200307T001500

DTEND:20200307T004500

SUMMARY:21888092

LOCATION:, , 

END:VEVENT

END:VCALENDAR