BEGIN:VCALENDAR

VERSION:2.0

PRODID:-//hacksw/handcal//NONSGML v1.0//EN

BEGIN:VEVENT

UID:fb3de1741ba3580c20a5fad14b14d83e

DTSTAMP:20260424T154902Z

DTSTART:20200306T230000

DTEND:20200306T233000

SUMMARY:21871575

LOCATION:HENDRA, 2, Flemington Street

END:VEVENT

END:VCALENDAR