BEGIN:VCALENDAR

VERSION:2.0

PRODID:-//hacksw/handcal//NONSGML v1.0//EN

BEGIN:VEVENT

UID:96febbd7569337ce4b976f84aa0acb5a

DTSTAMP:20260424T155056Z

DTSTART:20200306T020000

DTEND:20200306T023000

SUMMARY:21883104

LOCATION:STAFFORD HEIGHTS, 17, Chuter Street

END:VEVENT

END:VCALENDAR