BEGIN:VCALENDAR

VERSION:2.0

PRODID:-//hacksw/handcal//NONSGML v1.0//EN

BEGIN:VEVENT

UID:1ecb26f5d1f0e8ca37c95f3dcf520ca0

DTSTAMP:20260424T155847Z

DTSTART:20200306T011500

DTEND:20200306T014500

SUMMARY:21778008

LOCATION:STAFFORD, 48, Nevitt Street

END:VEVENT

END:VCALENDAR