BEGIN:VCALENDAR

VERSION:2.0

PRODID:-//hacksw/handcal//NONSGML v1.0//EN

BEGIN:VEVENT

UID:1bcb1ca767825fbd496aec2734e18b10

DTSTAMP:20200302T215219Z

DTSTART:20200307T101500

DTEND:20200307T104500

SUMMARY:21888092

LOCATION:CHERMSIDE, 33, Nielson Street

END:VEVENT

END:VCALENDAR