BEGIN:VCALENDAR

VERSION:2.0

PRODID:-//hacksw/handcal//NONSGML v1.0//EN

BEGIN:VEVENT

UID:31a7d709a9350ccd6961b62c8aa342ae

DTSTAMP:20200302T215137Z

DTSTART:20200307T090000

DTEND:20200307T093000

SUMMARY:21871575

LOCATION:HENDRA, 2, Flemington Street

END:VEVENT

END:VCALENDAR